BEGIN:VCALENDAR
VERSION:2.0
PRODID:-//Disability Rights Texas - ECPv6.15.20//NONSGML v1.0//EN
CALSCALE:GREGORIAN
METHOD:PUBLISH
X-WR-CALNAME:Disability Rights Texas
X-ORIGINAL-URL:https://disabilityrightstx.org
X-WR-CALDESC:Events for Disability Rights Texas
REFRESH-INTERVAL;VALUE=DURATION:PT1H
X-Robots-Tag:noindex
X-PUBLISHED-TTL:PT1H
BEGIN:VTIMEZONE
TZID:UTC
BEGIN:STANDARD
TZOFFSETFROM:+0000
TZOFFSETTO:+0000
TZNAME:UTC
DTSTART:20180101T000000
END:STANDARD
END:VTIMEZONE
BEGIN:VEVENT
DTSTART;TZID=UTC:20191005T080000
DTEND;TZID=UTC:20191005T150000
DTSTAMP:20260421T121045
CREATED:20190509T232733Z
LAST-MODIFIED:20190509T232733Z
UID:3360-1570262400-1570287600@disabilityrightstx.org
SUMMARY:DRTx Board Meeting - Fall 2019
DESCRIPTION:Our board of directors meets quarterly to review financial reports\, agency performance\, PAIMI program updates\, appeals\, public comments\, and other overarching issues impacting the agency.
URL:https://disabilityrightstx.org/en/event/drtx-board-meeting-fall-2019/
LOCATION:TX
END:VEVENT
END:VCALENDAR