BEGIN:VCALENDAR
VERSION:2.0
PRODID:-//Disability Rights Texas - ECPv6.15.20//NONSGML v1.0//EN
CALSCALE:GREGORIAN
METHOD:PUBLISH
X-ORIGINAL-URL:https://disabilityrightstx.org
X-WR-CALDESC:Events for Disability Rights Texas
REFRESH-INTERVAL;VALUE=DURATION:PT1H
X-Robots-Tag:noindex
X-PUBLISHED-TTL:PT1H
BEGIN:VTIMEZONE
TZID:UTC
BEGIN:STANDARD
TZOFFSETFROM:+0000
TZOFFSETTO:+0000
TZNAME:UTC
DTSTART:20190101T000000
END:STANDARD
END:VTIMEZONE
BEGIN:VEVENT
DTSTART;VALUE=DATE:20200726
DTEND;VALUE=DATE:20200727
DTSTAMP:20260422T112904
CREATED:20200124T200825Z
LAST-MODIFIED:20200124T200825Z
UID:3663-1595721600-1595807999@disabilityrightstx.org
SUMMARY:ADA 30th Anniversary
DESCRIPTION:The Americans with Disabilities Act (ADA) became law in 1990. The ADA is a civil rights law that prohibits discrimination against individuals with disabilities in all areas of public life\, including jobs\, schools\, transportation\, and all public and private places that are open to the general public. The purpose of the law is to make sure that people with disabilities have the same rights and opportunities as everyone else. The ADA gives civil rights protections to individuals with disabilities similar to those provided to individuals on the basis of race\, color\, sex\, national origin\, age\, and religion. It guarantees equal opportunity for individuals with disabilities in public accommodations\, employment\, transportation\, state and local government services\, and telecommunications. \nThis year marks the 30th anniversary of the passage of this law. Stay tuned for all the activities we have planned to celebrate this important event.
URL:https://disabilityrightstx.org/en/event/ada-30th-anniversary/
LOCATION:TX
END:VEVENT
END:VCALENDAR