BEGIN:VCALENDAR
VERSION:2.0
PRODID:-//Disability Rights Texas - ECPv6.15.20//NONSGML v1.0//EN
CALSCALE:GREGORIAN
METHOD:PUBLISH
X-WR-CALNAME:Disability Rights Texas
X-ORIGINAL-URL:https://disabilityrightstx.org
X-WR-CALDESC:Events for Disability Rights Texas
REFRESH-INTERVAL;VALUE=DURATION:PT1H
X-Robots-Tag:noindex
X-PUBLISHED-TTL:PT1H
BEGIN:VTIMEZONE
TZID:America/Chicago
BEGIN:DAYLIGHT
TZOFFSETFROM:-0600
TZOFFSETTO:-0500
TZNAME:CDT
DTSTART:20200308T080000
END:DAYLIGHT
BEGIN:STANDARD
TZOFFSETFROM:-0500
TZOFFSETTO:-0600
TZNAME:CST
DTSTART:20201101T070000
END:STANDARD
BEGIN:DAYLIGHT
TZOFFSETFROM:-0600
TZOFFSETTO:-0500
TZNAME:CDT
DTSTART:20210314T080000
END:DAYLIGHT
BEGIN:STANDARD
TZOFFSETFROM:-0500
TZOFFSETTO:-0600
TZNAME:CST
DTSTART:20211107T070000
END:STANDARD
BEGIN:DAYLIGHT
TZOFFSETFROM:-0600
TZOFFSETTO:-0500
TZNAME:CDT
DTSTART:20220313T080000
END:DAYLIGHT
BEGIN:STANDARD
TZOFFSETFROM:-0500
TZOFFSETTO:-0600
TZNAME:CST
DTSTART:20221106T070000
END:STANDARD
END:VTIMEZONE
BEGIN:VEVENT
DTSTART;TZID=America/Chicago:20210323T121500
DTEND;TZID=America/Chicago:20210323T121500
DTSTAMP:20260425T135550
CREATED:20210129T142151Z
LAST-MODIFIED:20210129T142151Z
UID:6373-1616501700-1616501700@disabilityrightstx.org
SUMMARY:What Should be in My Child’s IEP? An Overview of the Required Components of an IEP
DESCRIPTION:Special Guest Presenter: Dr. Michelle Simmons\, West Texas A&M University Center for Learning Disabilities\n\nA student’s Individualized Education Plan (IEP) is one of the most critical components to educating a child with learning differences. The IEP should serve as the road map and guide for education decision making. Yet\, IEPs are often misunderstood and missing vital pieces necessary for student success. During this session\, Dr. Michelle Simmons from West Texas A& M University’s Center for Learning Disabilities will provide a general overview of the components of an IEP\, discuss relevant education policy as it relates to IEP development in Texas\, and equip parents with valuable information to better understand their child’s IEP.\nRegistration: https://us02web.zoom.us/…/reg…/WN_E39fgRX0QxS6qtMsVdU0-w
URL:https://disabilityrightstx.org/en/event/what-should-be-in-my-childs-iep-an-overview-of-the-required-components-of-an-iep/
LOCATION:Online
END:VEVENT
END:VCALENDAR