BEGIN:VCALENDAR
VERSION:2.0
PRODID:-//Disability Rights Texas - ECPv6.15.20//NONSGML v1.0//EN
CALSCALE:GREGORIAN
METHOD:PUBLISH
X-WR-CALNAME:Disability Rights Texas
X-ORIGINAL-URL:https://disabilityrightstx.org
X-WR-CALDESC:Events for Disability Rights Texas
REFRESH-INTERVAL;VALUE=DURATION:PT1H
X-Robots-Tag:noindex
X-PUBLISHED-TTL:PT1H
BEGIN:VTIMEZONE
TZID:America/Chicago
BEGIN:DAYLIGHT
TZOFFSETFROM:-0600
TZOFFSETTO:-0500
TZNAME:CDT
DTSTART:20200308T080000
END:DAYLIGHT
BEGIN:STANDARD
TZOFFSETFROM:-0500
TZOFFSETTO:-0600
TZNAME:CST
DTSTART:20201101T070000
END:STANDARD
BEGIN:DAYLIGHT
TZOFFSETFROM:-0600
TZOFFSETTO:-0500
TZNAME:CDT
DTSTART:20210314T080000
END:DAYLIGHT
BEGIN:STANDARD
TZOFFSETFROM:-0500
TZOFFSETTO:-0600
TZNAME:CST
DTSTART:20211107T070000
END:STANDARD
BEGIN:DAYLIGHT
TZOFFSETFROM:-0600
TZOFFSETTO:-0500
TZNAME:CDT
DTSTART:20220313T080000
END:DAYLIGHT
BEGIN:STANDARD
TZOFFSETFROM:-0500
TZOFFSETTO:-0600
TZNAME:CST
DTSTART:20221106T070000
END:STANDARD
END:VTIMEZONE
BEGIN:VEVENT
DTSTART;VALUE=DATE:20210612
DTEND;VALUE=DATE:20210613
DTSTAMP:20260421T171111
CREATED:20201203T132726Z
LAST-MODIFIED:20201203T132726Z
UID:5549-1623456000-1623542399@disabilityrightstx.org
SUMMARY:Online College Rights Legal Clinic - English
DESCRIPTION:College students with disabilities or soon to be college students with disabilities or those who are supporting them\, now is your chance to speak with a disability rights ATTORNEY\, in a PRIVATE SESSION\, for FREE! \nReserve a spot at our FREE online legal clinic on June 12 to get help with things like your rights in college\, get help with expenses\, Social Security beneficiaries or alternatives to guardianship. \nSPACE IS LIMITED\, so contact us ASAP before June 8.
URL:https://disabilityrightstx.org/en/event/online-college-rights-legal-clinic-english/
LOCATION:Online
END:VEVENT
BEGIN:VEVENT
DTSTART;VALUE=DATE:20210612
DTEND;VALUE=DATE:20210613
DTSTAMP:20260421T171111
CREATED:20210315T134328Z
LAST-MODIFIED:20210315T134328Z
UID:6865-1623456000-1623542399@disabilityrightstx.org
SUMMARY:Supported Decision-Making Online Legal Clinic
DESCRIPTION:Save the date! Registration information coming soon.
URL:https://disabilityrightstx.org/en/event/supported-decision-making-online-legal-clinic/
LOCATION:Online
END:VEVENT
END:VCALENDAR