BEGIN:VCALENDAR
VERSION:2.0
PRODID:-//Disability Rights Texas - ECPv6.15.20//NONSGML v1.0//EN
CALSCALE:GREGORIAN
METHOD:PUBLISH
X-WR-CALNAME:Disability Rights Texas
X-ORIGINAL-URL:https://disabilityrightstx.org
X-WR-CALDESC:Events for Disability Rights Texas
REFRESH-INTERVAL;VALUE=DURATION:PT1H
X-Robots-Tag:noindex
X-PUBLISHED-TTL:PT1H
BEGIN:VTIMEZONE
TZID:America/Chicago
BEGIN:DAYLIGHT
TZOFFSETFROM:-0600
TZOFFSETTO:-0500
TZNAME:CDT
DTSTART:20210314T080000
END:DAYLIGHT
BEGIN:STANDARD
TZOFFSETFROM:-0500
TZOFFSETTO:-0600
TZNAME:CST
DTSTART:20211107T070000
END:STANDARD
BEGIN:DAYLIGHT
TZOFFSETFROM:-0600
TZOFFSETTO:-0500
TZNAME:CDT
DTSTART:20220313T080000
END:DAYLIGHT
BEGIN:STANDARD
TZOFFSETFROM:-0500
TZOFFSETTO:-0600
TZNAME:CST
DTSTART:20221106T070000
END:STANDARD
BEGIN:DAYLIGHT
TZOFFSETFROM:-0600
TZOFFSETTO:-0500
TZNAME:CDT
DTSTART:20230312T080000
END:DAYLIGHT
BEGIN:STANDARD
TZOFFSETFROM:-0500
TZOFFSETTO:-0600
TZNAME:CST
DTSTART:20231105T070000
END:STANDARD
END:VTIMEZONE
BEGIN:VEVENT
DTSTART;TZID=America/Chicago:20220402T090000
DTEND;TZID=America/Chicago:20220402T130000
DTSTAMP:20260420T075855
CREATED:20220321T145024Z
LAST-MODIFIED:20220321T145024Z
UID:9199-1648890000-1648904400@disabilityrightstx.org
SUMMARY:Exhibit: First Annual Awareness Walk for Deaf & Hard of Hearing (Edinburg)
DESCRIPTION:DRTx will host an exhibit table at the First Annual Awareness Walk for Deaf & Hard of Hearing. Stop by and learn more about DRTx!
URL:https://disabilityrightstx.org/en/event/exhibit-first-annual-awareness-walk-for-deaf-hard-of-hearing-edinburg/
LOCATION:First Annual Awareness Walk for Deaf & Hard of Hearing\, 1900 W. Schunior St.\, Edinburg\, TX\, 78541\, United States
END:VEVENT
BEGIN:VEVENT
DTSTART;TZID=America/Chicago:20220402T100000
DTEND;TZID=America/Chicago:20220402T130000
DTSTAMP:20260420T075855
CREATED:20220321T150641Z
LAST-MODIFIED:20220321T150641Z
UID:9220-1648893600-1648904400@disabilityrightstx.org
SUMMARY:Exhibit: Rising Star Baptist Church (Grapeland)
DESCRIPTION:DRTx will host an exhibit table at the Rising Star Baptist Church. Stop by and learn more about DRTx!
URL:https://disabilityrightstx.org/en/event/exhibit-rising-star-baptist-church-grapeland/
LOCATION:Rising Star Baptist Church\, 10987 US Hwy 287 N\, Grapeland\, TX\, 75844\, United States
END:VEVENT
END:VCALENDAR