BEGIN:VCALENDAR
VERSION:2.0
PRODID:-//Disability Rights Texas - ECPv6.15.20//NONSGML v1.0//EN
CALSCALE:GREGORIAN
METHOD:PUBLISH
X-ORIGINAL-URL:https://disabilityrightstx.org
X-WR-CALDESC:Events for Disability Rights Texas
REFRESH-INTERVAL;VALUE=DURATION:PT1H
X-Robots-Tag:noindex
X-PUBLISHED-TTL:PT1H
BEGIN:VTIMEZONE
TZID:America/Chicago
BEGIN:DAYLIGHT
TZOFFSETFROM:-0600
TZOFFSETTO:-0500
TZNAME:CDT
DTSTART:20210314T080000
END:DAYLIGHT
BEGIN:STANDARD
TZOFFSETFROM:-0500
TZOFFSETTO:-0600
TZNAME:CST
DTSTART:20211107T070000
END:STANDARD
BEGIN:DAYLIGHT
TZOFFSETFROM:-0600
TZOFFSETTO:-0500
TZNAME:CDT
DTSTART:20220313T080000
END:DAYLIGHT
BEGIN:STANDARD
TZOFFSETFROM:-0500
TZOFFSETTO:-0600
TZNAME:CST
DTSTART:20221106T070000
END:STANDARD
BEGIN:DAYLIGHT
TZOFFSETFROM:-0600
TZOFFSETTO:-0500
TZNAME:CDT
DTSTART:20230312T080000
END:DAYLIGHT
BEGIN:STANDARD
TZOFFSETFROM:-0500
TZOFFSETTO:-0600
TZNAME:CST
DTSTART:20231105T070000
END:STANDARD
END:VTIMEZONE
BEGIN:VEVENT
DTSTART;TZID=America/Chicago:20220420T140000
DTEND;TZID=America/Chicago:20220420T150000
DTSTAMP:20260421T064630
CREATED:20220419T123717Z
LAST-MODIFIED:20220419T123717Z
UID:9498-1650463200-1650466800@disabilityrightstx.org
SUMMARY:Voting and the Disability Community: Progress Made and Needed
DESCRIPTION:This webinar hosted by the American Bar Association will feature a panel discussion about how the disability community fared in the 2020 elections with vastly expanded voting by mail\, consolidated polling places\, persistent privacy concerns\, and limited resources\, among other barriers\, and the path forward. \nDRTx’s Lia Sifuentes Davis will be a panelist. \nRegister by visiting the website link below.
URL:https://disabilityrightstx.org/en/event/voting-and-the-disability-community-progress-made-and-needed/
LOCATION:Zoom
END:VEVENT
END:VCALENDAR