BEGIN:VCALENDAR
VERSION:2.0
PRODID:-//Disability Rights Texas - ECPv6.15.20//NONSGML v1.0//EN
CALSCALE:GREGORIAN
METHOD:PUBLISH
X-ORIGINAL-URL:https://disabilityrightstx.org
X-WR-CALDESC:Events for Disability Rights Texas
REFRESH-INTERVAL;VALUE=DURATION:PT1H
X-Robots-Tag:noindex
X-PUBLISHED-TTL:PT1H
BEGIN:VTIMEZONE
TZID:America/Chicago
BEGIN:DAYLIGHT
TZOFFSETFROM:-0600
TZOFFSETTO:-0500
TZNAME:CDT
DTSTART:20210314T080000
END:DAYLIGHT
BEGIN:STANDARD
TZOFFSETFROM:-0500
TZOFFSETTO:-0600
TZNAME:CST
DTSTART:20211107T070000
END:STANDARD
BEGIN:DAYLIGHT
TZOFFSETFROM:-0600
TZOFFSETTO:-0500
TZNAME:CDT
DTSTART:20220313T080000
END:DAYLIGHT
BEGIN:STANDARD
TZOFFSETFROM:-0500
TZOFFSETTO:-0600
TZNAME:CST
DTSTART:20221106T070000
END:STANDARD
BEGIN:DAYLIGHT
TZOFFSETFROM:-0600
TZOFFSETTO:-0500
TZNAME:CDT
DTSTART:20230312T080000
END:DAYLIGHT
BEGIN:STANDARD
TZOFFSETFROM:-0500
TZOFFSETTO:-0600
TZNAME:CST
DTSTART:20231105T070000
END:STANDARD
END:VTIMEZONE
BEGIN:VEVENT
DTSTART;TZID=America/Chicago:20220422T090000
DTEND;TZID=America/Chicago:20220422T150000
DTSTAMP:20260421T161840
CREATED:20220321T145311Z
LAST-MODIFIED:20220321T145311Z
UID:9202-1650618000-1650639600@disabilityrightstx.org
SUMMARY:We're Exhibiting at the South Texas Senior Summit (Rio Grande City)
DESCRIPTION:DRTx will host an exhibit table at the South Texas Senior Summit. Stop by and learn more about DRTx!
URL:https://disabilityrightstx.org/en/event/exhibit-south-texas-senior-summit-rio-grande-city/
LOCATION:South Texas Senior Summit\, 5501 N. Acapulco St.\, Rio Grande City\, TX\, 78582\, United States
END:VEVENT
BEGIN:VEVENT
DTSTART;TZID=America/Chicago:20220422T120000
DTEND;TZID=America/Chicago:20220422T130000
DTSTAMP:20260421T161840
CREATED:20220404T163526Z
LAST-MODIFIED:20220404T163526Z
UID:9376-1650628800-1650632400@disabilityrightstx.org
SUMMARY:The Importance of Voting in the Disability Community
DESCRIPTION:This online Lunch and Learn from the Texas Rehabilitation Association (TRA) will cover the importance of voting for people with disabilities. Attendees will learn about: \n\nthe background and history of voting rights and the Help America Vote Act\,\nwhy voting matters for individuals with disabilities\,\nthe role of vocational rehabilitation (VR) and voter registration\, and\nSection 2 of the Voting Rights Act.\n\nDRTx’s Molly Broadway\, LMSW\, will be the presenter. \nRegister by visiting the website link below. You do not need to be a TRA member to attend. Free CEUs will be available for CRC & LPC. For more information\, contact president@txrehabassoc.org.
URL:https://disabilityrightstx.org/en/event/the-importance-of-voting-in-the-disability-community/
LOCATION:Zoom
END:VEVENT
END:VCALENDAR