BEGIN:VCALENDAR
VERSION:2.0
PRODID:-//Disability Rights Texas - ECPv6.15.20//NONSGML v1.0//EN
CALSCALE:GREGORIAN
METHOD:PUBLISH
X-ORIGINAL-URL:https://disabilityrightstx.org
X-WR-CALDESC:Events for Disability Rights Texas
REFRESH-INTERVAL;VALUE=DURATION:PT1H
X-Robots-Tag:noindex
X-PUBLISHED-TTL:PT1H
BEGIN:VTIMEZONE
TZID:America/Chicago
BEGIN:DAYLIGHT
TZOFFSETFROM:-0600
TZOFFSETTO:-0500
TZNAME:CDT
DTSTART:20210314T080000
END:DAYLIGHT
BEGIN:STANDARD
TZOFFSETFROM:-0500
TZOFFSETTO:-0600
TZNAME:CST
DTSTART:20211107T070000
END:STANDARD
BEGIN:DAYLIGHT
TZOFFSETFROM:-0600
TZOFFSETTO:-0500
TZNAME:CDT
DTSTART:20220313T080000
END:DAYLIGHT
BEGIN:STANDARD
TZOFFSETFROM:-0500
TZOFFSETTO:-0600
TZNAME:CST
DTSTART:20221106T070000
END:STANDARD
BEGIN:DAYLIGHT
TZOFFSETFROM:-0600
TZOFFSETTO:-0500
TZNAME:CDT
DTSTART:20230312T080000
END:DAYLIGHT
BEGIN:STANDARD
TZOFFSETFROM:-0500
TZOFFSETTO:-0600
TZNAME:CST
DTSTART:20231105T070000
END:STANDARD
END:VTIMEZONE
BEGIN:VEVENT
DTSTART;TZID=America/Chicago:20220510T090000
DTEND;TZID=America/Chicago:20220510T130000
DTSTAMP:20260421T161810
CREATED:20220422T090151Z
LAST-MODIFIED:20220422T090151Z
UID:9514-1652173200-1652187600@disabilityrightstx.org
SUMMARY:We're Exhibiting at the Annual Senior Citizen Rally Day (Orange)
DESCRIPTION:DRTx will host an exhibit table at the 53rd Annual Senior Citizen Rally Day. Stop by and learn more about DRTx!
URL:https://disabilityrightstx.org/en/event/were-exhibiting-at-the-annual-senior-citizen-rally-day-orange/
LOCATION:Orange County Convention and Expo Center\, 11475-A FM 1442\, Orange\, TX\, 77630\, United States
END:VEVENT
END:VCALENDAR