BEGIN:VCALENDAR
VERSION:2.0
PRODID:-//Disability Rights Texas - ECPv6.15.20//NONSGML v1.0//EN
CALSCALE:GREGORIAN
METHOD:PUBLISH
X-ORIGINAL-URL:https://disabilityrightstx.org
X-WR-CALDESC:Events for Disability Rights Texas
REFRESH-INTERVAL;VALUE=DURATION:PT1H
X-Robots-Tag:noindex
X-PUBLISHED-TTL:PT1H
BEGIN:VTIMEZONE
TZID:America/Chicago
BEGIN:DAYLIGHT
TZOFFSETFROM:-0600
TZOFFSETTO:-0500
TZNAME:CDT
DTSTART:20210314T080000
END:DAYLIGHT
BEGIN:STANDARD
TZOFFSETFROM:-0500
TZOFFSETTO:-0600
TZNAME:CST
DTSTART:20211107T070000
END:STANDARD
BEGIN:DAYLIGHT
TZOFFSETFROM:-0600
TZOFFSETTO:-0500
TZNAME:CDT
DTSTART:20220313T080000
END:DAYLIGHT
BEGIN:STANDARD
TZOFFSETFROM:-0500
TZOFFSETTO:-0600
TZNAME:CST
DTSTART:20221106T070000
END:STANDARD
BEGIN:DAYLIGHT
TZOFFSETFROM:-0600
TZOFFSETTO:-0500
TZNAME:CDT
DTSTART:20230312T080000
END:DAYLIGHT
BEGIN:STANDARD
TZOFFSETFROM:-0500
TZOFFSETTO:-0600
TZNAME:CST
DTSTART:20231105T070000
END:STANDARD
END:VTIMEZONE
BEGIN:VEVENT
DTSTART;VALUE=DATE:20220611
DTEND;VALUE=DATE:20220612
DTSTAMP:20260421T045030
CREATED:20220516T134811Z
LAST-MODIFIED:20220516T134811Z
UID:9661-1654905600-1654991999@disabilityrightstx.org
SUMMARY:Autism-Friendly Vaccine Clinic (San Antonio)
DESCRIPTION:The Autism Society of Texas will offer Sensory-Friendly Vaccine clinics on June 11 at the Autism Treatment Center located at: 15911 Nacogdoches Rd. The vaccines will be provided by San Antonio Metropolitan Health District.
URL:https://disabilityrightstx.org/en/event/autism-friendly-vaccine-clinic-san-antonio/
LOCATION:Autism Treatment Center (San Antonio)\, 15911 Nacogdoches Rd.\, Bldg 2\, San Antonio\, TX\, 78247\, United States
END:VEVENT
END:VCALENDAR