BEGIN:VCALENDAR
VERSION:2.0
PRODID:-//Disability Rights Texas - ECPv6.15.20//NONSGML v1.0//EN
CALSCALE:GREGORIAN
METHOD:PUBLISH
X-ORIGINAL-URL:https://disabilityrightstx.org
X-WR-CALDESC:Events for Disability Rights Texas
REFRESH-INTERVAL;VALUE=DURATION:PT1H
X-Robots-Tag:noindex
X-PUBLISHED-TTL:PT1H
BEGIN:VTIMEZONE
TZID:America/Chicago
BEGIN:DAYLIGHT
TZOFFSETFROM:-0600
TZOFFSETTO:-0500
TZNAME:CDT
DTSTART:20210314T080000
END:DAYLIGHT
BEGIN:STANDARD
TZOFFSETFROM:-0500
TZOFFSETTO:-0600
TZNAME:CST
DTSTART:20211107T070000
END:STANDARD
BEGIN:DAYLIGHT
TZOFFSETFROM:-0600
TZOFFSETTO:-0500
TZNAME:CDT
DTSTART:20220313T080000
END:DAYLIGHT
BEGIN:STANDARD
TZOFFSETFROM:-0500
TZOFFSETTO:-0600
TZNAME:CST
DTSTART:20221106T070000
END:STANDARD
BEGIN:DAYLIGHT
TZOFFSETFROM:-0600
TZOFFSETTO:-0500
TZNAME:CDT
DTSTART:20230312T080000
END:DAYLIGHT
BEGIN:STANDARD
TZOFFSETFROM:-0500
TZOFFSETTO:-0600
TZNAME:CST
DTSTART:20231105T070000
END:STANDARD
END:VTIMEZONE
BEGIN:VEVENT
DTSTART;VALUE=DATE:20220618
DTEND;VALUE=DATE:20220619
DTSTAMP:20260420T054851
CREATED:20220516T131909Z
LAST-MODIFIED:20220516T131909Z
UID:9633-1655510400-1655596799@disabilityrightstx.org
SUMMARY:Autism-Friendly Vaccine Clinic (Austin)
DESCRIPTION:The Autism Society of Texas will offer Sensory-Friendly Vaccine clinics on June 18 and July 23 at Spark Learning Center located at 2517 Enfield Road\, Austin\, TX 78703. The vaccines will be provided by Austin Public Health.
URL:https://disabilityrightstx.org/en/event/autism-friendly-vaccine-clinic-austin/
LOCATION:Spark Learning Center\, 2517 Enfield Road\, Austin\, TX\, 78703\, United States
END:VEVENT
BEGIN:VEVENT
DTSTART;TZID=America/Chicago:20220618T130000
DTEND;TZID=America/Chicago:20220618T190000
DTSTAMP:20260420T054851
CREATED:20220617T134939Z
LAST-MODIFIED:20220617T134939Z
UID:9835-1655557200-1655578800@disabilityrightstx.org
SUMMARY:Juneteenth Festival and Walk of Celebration & Remembrance (Irving)
DESCRIPTION:The West Irving Improvement Association in collaboration with the City of Irving is hosting a Juneteenth Festival. To kick things off\, we will start with A Walk of Celebration & Remembrance. The walk will start at the Shady Oaks Cemetery located at 800 Compton Ave.\, Irving\, TX and finish 3901 Jackson St.\, Irving\, TX 75061. We would love for you to be a part of this year’s celebration. We look forward to sharing this exciting event with you. \nThe walk will include a march through the community featuring drums and spirituals exciting the people of the community to gather at the event. You can register for the walk on Eventbrite. 
URL:https://disabilityrightstx.org/en/event/juneteenth-festival-and-walk-of-celebration-remembrance-irving/
LOCATION:West Irving Improvement Association\, 3901 Jackson St\, Irving\, TX\, 75061
END:VEVENT
END:VCALENDAR