BEGIN:VCALENDAR
VERSION:2.0
PRODID:-//Disability Rights Texas - ECPv6.15.20//NONSGML v1.0//EN
CALSCALE:GREGORIAN
METHOD:PUBLISH
X-ORIGINAL-URL:https://disabilityrightstx.org
X-WR-CALDESC:Events for Disability Rights Texas
REFRESH-INTERVAL;VALUE=DURATION:PT1H
X-Robots-Tag:noindex
X-PUBLISHED-TTL:PT1H
BEGIN:VTIMEZONE
TZID:America/Chicago
BEGIN:DAYLIGHT
TZOFFSETFROM:-0600
TZOFFSETTO:-0500
TZNAME:CDT
DTSTART:20210314T080000
END:DAYLIGHT
BEGIN:STANDARD
TZOFFSETFROM:-0500
TZOFFSETTO:-0600
TZNAME:CST
DTSTART:20211107T070000
END:STANDARD
BEGIN:DAYLIGHT
TZOFFSETFROM:-0600
TZOFFSETTO:-0500
TZNAME:CDT
DTSTART:20220313T080000
END:DAYLIGHT
BEGIN:STANDARD
TZOFFSETFROM:-0500
TZOFFSETTO:-0600
TZNAME:CST
DTSTART:20221106T070000
END:STANDARD
BEGIN:DAYLIGHT
TZOFFSETFROM:-0600
TZOFFSETTO:-0500
TZNAME:CDT
DTSTART:20230312T080000
END:DAYLIGHT
BEGIN:STANDARD
TZOFFSETFROM:-0500
TZOFFSETTO:-0600
TZNAME:CST
DTSTART:20231105T070000
END:STANDARD
END:VTIMEZONE
BEGIN:VEVENT
DTSTART;TZID=America/Chicago:20220629T090000
DTEND;TZID=America/Chicago:20220629T170000
DTSTAMP:20260420T003645
CREATED:20220606T162805Z
LAST-MODIFIED:20220606T162805Z
UID:9723-1656493200-1656522000@disabilityrightstx.org
SUMMARY:Free Supported Decision-Making Virtual Clinic
DESCRIPTION:Disability Rights Texas (DRTx) and Vinson & Elkins LLP are hosting a free virtual supported decision-making legal clinic on Wednesday\, June 29\, 2022\, for individuals with disabilities and their families. \nDuring the virtual clinic\, participants will have an opportunity to meet 1-on-1 with an attorney\, free of charge. Attorneys will discuss alternatives to guardianship\, supported decision-making\, and powers of attorney. \nAppointment times for the virtual clinic are extremely limited\, so register today! Appointments will be scheduled for one hour. \nRegistration is required and space is limited. Call 1-800-252-9108 to reserve your spot. When calling\, after selecting the language\, press 2 and then press 3. Sign language users can call one of our video phone lines: \n\n1-866-362-2851\n512-271-9391 (Purple Video)\n\nFor additional information\, contact Cicely Reid at (832) 681-8216 or email creid@drtx.org.
URL:https://disabilityrightstx.org/en/event/free-supported-decision-making-virtual-clinic/
LOCATION:Virtual
END:VEVENT
END:VCALENDAR