BEGIN:VCALENDAR
VERSION:2.0
PRODID:-//Disability Rights Texas - ECPv6.15.20//NONSGML v1.0//EN
CALSCALE:GREGORIAN
METHOD:PUBLISH
X-WR-CALNAME:Disability Rights Texas
X-ORIGINAL-URL:https://disabilityrightstx.org
X-WR-CALDESC:Events for Disability Rights Texas
REFRESH-INTERVAL;VALUE=DURATION:PT1H
X-Robots-Tag:noindex
X-PUBLISHED-TTL:PT1H
BEGIN:VTIMEZONE
TZID:America/Chicago
BEGIN:DAYLIGHT
TZOFFSETFROM:-0600
TZOFFSETTO:-0500
TZNAME:CDT
DTSTART:20210314T080000
END:DAYLIGHT
BEGIN:STANDARD
TZOFFSETFROM:-0500
TZOFFSETTO:-0600
TZNAME:CST
DTSTART:20211107T070000
END:STANDARD
BEGIN:DAYLIGHT
TZOFFSETFROM:-0600
TZOFFSETTO:-0500
TZNAME:CDT
DTSTART:20220313T080000
END:DAYLIGHT
BEGIN:STANDARD
TZOFFSETFROM:-0500
TZOFFSETTO:-0600
TZNAME:CST
DTSTART:20221106T070000
END:STANDARD
BEGIN:DAYLIGHT
TZOFFSETFROM:-0600
TZOFFSETTO:-0500
TZNAME:CDT
DTSTART:20230312T080000
END:DAYLIGHT
BEGIN:STANDARD
TZOFFSETFROM:-0500
TZOFFSETTO:-0600
TZNAME:CST
DTSTART:20231105T070000
END:STANDARD
END:VTIMEZONE
BEGIN:VEVENT
DTSTART;VALUE=DATE:20220701
DTEND;VALUE=DATE:20220801
DTSTAMP:20260421T221918
CREATED:20220706T112430Z
LAST-MODIFIED:20220706T112430Z
UID:9949-1656633600-1659311999@disabilityrightstx.org
SUMMARY:Life Without Limits Fundaiser
DESCRIPTION:July 2022 will mark 32 years since the Americans with Disabilities Act (ADA) became law. We’re celebrating the ADA this month with our Life Without Limits t-shirt fundraiser. When you purchase a Life Without Limits t-shirt\, you can raise awareness about disability rights and support our work.
URL:https://disabilityrightstx.org/en/event/life-without-limits-fundaiser/
LOCATION:TX
ORGANIZER;CN="Disability Rights Texas":MAILTO:info@drtx.org
END:VEVENT
BEGIN:VEVENT
DTSTART;TZID=America/Chicago:20220727T120000
DTEND;TZID=America/Chicago:20220727T130000
DTSTAMP:20260421T221918
CREATED:20220607T160349Z
LAST-MODIFIED:20220607T160349Z
UID:9739-1658923200-1658926800@disabilityrightstx.org
SUMMARY:Engaging with Aging in the Future Planning Process (webinar)
DESCRIPTION:As families plan for the future\, they will be engaging with the aging process as well. All members of the family are aging and with this comes things to consider for future planning. In this webinar\, you will learn about ways to promote the health of the individual with intellectual and developmental disabilities (IDD) as they age\, retirement considerations\, and end of life planning along with supporting grief and loss. Information will be shared about interventions that have been developed to help families with future planning as they age. This is the last of three sessions in the webinar series. \nAbout the webinar series\nAdults with IDD are living longer and family future planning remains a vital focus. Texas A&M AgriLife Extension Service\, in partnership with the Texas Council for Developmental Disabilities\, will host this webinar as part of their Aging and IDD: Family Future Planning Webinar Series. \nPresenters \n\nTamar Heller\, Ph.D. Distinguished Professor heads the Department of Disability and Human Development\, the University of Illinois at Chicago (UIC) and its University Center of Excellence in Developmental Disabilities.\nKatie Arnold is the Associate Project Director at the Institute on Disability and Human Development at UIC\, Illinois University Center of Excellence in Developmental Disabilities.\n\nAccommodations\nLive transcriptions will be provided for this webinar. If you require additional accommodations to participate\, please contact Morgan Bradley at morgan.bradley@ag.tamu.edu at least four days prior to the event.
URL:https://disabilityrightstx.org/en/event/engaging-with-aging-in-the-future-planning-process-webinar/
LOCATION:Zoom
END:VEVENT
END:VCALENDAR