BEGIN:VCALENDAR
VERSION:2.0
PRODID:-//Disability Rights Texas - ECPv6.15.20//NONSGML v1.0//EN
CALSCALE:GREGORIAN
METHOD:PUBLISH
X-WR-CALNAME:Disability Rights Texas
X-ORIGINAL-URL:https://disabilityrightstx.org
X-WR-CALDESC:Events for Disability Rights Texas
REFRESH-INTERVAL;VALUE=DURATION:PT1H
X-Robots-Tag:noindex
X-PUBLISHED-TTL:PT1H
BEGIN:VTIMEZONE
TZID:America/Chicago
BEGIN:DAYLIGHT
TZOFFSETFROM:-0600
TZOFFSETTO:-0500
TZNAME:CDT
DTSTART:20220313T080000
END:DAYLIGHT
BEGIN:STANDARD
TZOFFSETFROM:-0500
TZOFFSETTO:-0600
TZNAME:CST
DTSTART:20221106T070000
END:STANDARD
BEGIN:DAYLIGHT
TZOFFSETFROM:-0600
TZOFFSETTO:-0500
TZNAME:CDT
DTSTART:20230312T080000
END:DAYLIGHT
BEGIN:STANDARD
TZOFFSETFROM:-0500
TZOFFSETTO:-0600
TZNAME:CST
DTSTART:20231105T070000
END:STANDARD
BEGIN:DAYLIGHT
TZOFFSETFROM:-0600
TZOFFSETTO:-0500
TZNAME:CDT
DTSTART:20240310T080000
END:DAYLIGHT
BEGIN:STANDARD
TZOFFSETFROM:-0500
TZOFFSETTO:-0600
TZNAME:CST
DTSTART:20241103T070000
END:STANDARD
END:VTIMEZONE
BEGIN:VEVENT
DTSTART;TZID=America/Chicago:20230921T163000
DTEND;TZID=America/Chicago:20230921T193000
DTSTAMP:20260421T133117
CREATED:20230814T090315Z
LAST-MODIFIED:20230814T090315Z
UID:12443-1695313800-1695324600@disabilityrightstx.org
SUMMARY:Celebrating Community Connections (Uvalde)
DESCRIPTION:Celebrating Community Connections: A Community Resource and Information Fair will be held from 4:30-7:30 p.m. on Thursday\, September 21. The event will be at the Uvalde County Fairplex\, Stardust Pavilion\, 215 Veterans Lane.  \nThere will be: \n\ninformation and resources from local organizations\,\na table decorating contest\,\na contest for best Mexican attire and grito\, and\na chance to win raffle prizes.\n\nThe event will be hosted by Disability Rights Texas and the South Texas Aging & Disability Resource Center. \nIf you would like to exhibit at this event\, email mbarrah@stdc.cog.tx.us or vflores@stdc.cog.tx.us. \nMore information about the event will be available soon.
URL:https://disabilityrightstx.org/en/event/celebrating-community-connections-uvalde/
LOCATION:Uvalde County Fairplex\, Stardust Pavilion\, 215 Veterans Lane\, Uvalde\, TX\, 78801\, United States
END:VEVENT
END:VCALENDAR