BEGIN:VCALENDAR
VERSION:2.0
PRODID:-//Disability Rights Texas - ECPv6.15.20//NONSGML v1.0//EN
CALSCALE:GREGORIAN
METHOD:PUBLISH
X-ORIGINAL-URL:https://disabilityrightstx.org
X-WR-CALDESC:Events for Disability Rights Texas
REFRESH-INTERVAL;VALUE=DURATION:PT1H
X-Robots-Tag:noindex
X-PUBLISHED-TTL:PT1H
BEGIN:VTIMEZONE
TZID:America/Chicago
BEGIN:DAYLIGHT
TZOFFSETFROM:-0600
TZOFFSETTO:-0500
TZNAME:CDT
DTSTART:20220313T080000
END:DAYLIGHT
BEGIN:STANDARD
TZOFFSETFROM:-0500
TZOFFSETTO:-0600
TZNAME:CST
DTSTART:20221106T070000
END:STANDARD
BEGIN:DAYLIGHT
TZOFFSETFROM:-0600
TZOFFSETTO:-0500
TZNAME:CDT
DTSTART:20230312T080000
END:DAYLIGHT
BEGIN:STANDARD
TZOFFSETFROM:-0500
TZOFFSETTO:-0600
TZNAME:CST
DTSTART:20231105T070000
END:STANDARD
BEGIN:DAYLIGHT
TZOFFSETFROM:-0600
TZOFFSETTO:-0500
TZNAME:CDT
DTSTART:20240310T080000
END:DAYLIGHT
BEGIN:STANDARD
TZOFFSETFROM:-0500
TZOFFSETTO:-0600
TZNAME:CST
DTSTART:20241103T070000
END:STANDARD
END:VTIMEZONE
BEGIN:VEVENT
DTSTART;TZID=America/Chicago:20231113T120000
DTEND;TZID=America/Chicago:20231113T140000
DTSTAMP:20260419T231034
CREATED:20231026T152540Z
LAST-MODIFIED:20231026T152540Z
UID:13200-1699876800-1699884000@disabilityrightstx.org
SUMMARY:Vaccine Clinic: Amarillo
DESCRIPTION:A free vaccine clinic will be held from 12-2 p.m. on Monday\, November 13\, in Amarillo. Attendees will have access to free flu and COVID-19 vaccinations. \nThe clinic will be co-hosted by Disability Rights Texas and the Panhandle Independent Living Center. \nLearn more about our Vaccine Project.
URL:https://disabilityrightstx.org/en/event/vaccine-clinic-amarillo/
LOCATION:Panhandle Independent Living Center\, 417 SW 10 AVE\, Amarillo\, Texas\, 79101\, Estados Unidos
END:VEVENT
END:VCALENDAR