BEGIN:VCALENDAR
VERSION:2.0
PRODID:-//Disability Rights Texas - ECPv6.15.20//NONSGML v1.0//EN
CALSCALE:GREGORIAN
METHOD:PUBLISH
X-WR-CALNAME:Disability Rights Texas
X-ORIGINAL-URL:https://disabilityrightstx.org
X-WR-CALDESC:Events for Disability Rights Texas
REFRESH-INTERVAL;VALUE=DURATION:PT1H
X-Robots-Tag:noindex
X-PUBLISHED-TTL:PT1H
BEGIN:VTIMEZONE
TZID:America/Chicago
BEGIN:DAYLIGHT
TZOFFSETFROM:-0600
TZOFFSETTO:-0500
TZNAME:CDT
DTSTART:20230312T080000
END:DAYLIGHT
BEGIN:STANDARD
TZOFFSETFROM:-0500
TZOFFSETTO:-0600
TZNAME:CST
DTSTART:20231105T070000
END:STANDARD
BEGIN:DAYLIGHT
TZOFFSETFROM:-0600
TZOFFSETTO:-0500
TZNAME:CDT
DTSTART:20240310T080000
END:DAYLIGHT
BEGIN:STANDARD
TZOFFSETFROM:-0500
TZOFFSETTO:-0600
TZNAME:CST
DTSTART:20241103T070000
END:STANDARD
BEGIN:DAYLIGHT
TZOFFSETFROM:-0600
TZOFFSETTO:-0500
TZNAME:CDT
DTSTART:20250309T080000
END:DAYLIGHT
BEGIN:STANDARD
TZOFFSETFROM:-0500
TZOFFSETTO:-0600
TZNAME:CST
DTSTART:20251102T070000
END:STANDARD
END:VTIMEZONE
BEGIN:VEVENT
DTSTART;TZID=America/Chicago:20240330T100000
DTEND;TZID=America/Chicago:20240330T150000
DTSTAMP:20260420T045811
CREATED:20240220T164001Z
LAST-MODIFIED:20240220T164001Z
UID:13845-1711792800-1711810800@disabilityrightstx.org
SUMMARY:Austin Free Vaccine Event
DESCRIPTION:Get protected! Come to our Vaccine Event at the DRTx Austin offices. We’ll have free Flu and COVID-19 shots. No insurance information required. \nEnjoy snacks and giveaways. People 18 or older who get one or both vaccines will be entered in a drawing to win one of five H-E-B $100 gift cards. \nPre-registration not required. Wait times can vary. Vaccines available while supplies last. \nQuestions? Email us at vaccine@DRTx.org or call 1-800-880-8401.
URL:https://disabilityrightstx.org/en/event/austinvaccineevent/
LOCATION:Disability Rights Texas Austin Office\, 2222 West Braker Lane\, Austin\, TX\, 78758\, United States
END:VEVENT
END:VCALENDAR