BEGIN:VCALENDAR
VERSION:2.0
PRODID:-//Disability Rights Texas - ECPv6.15.20//NONSGML v1.0//EN
CALSCALE:GREGORIAN
METHOD:PUBLISH
X-ORIGINAL-URL:https://disabilityrightstx.org
X-WR-CALDESC:Events for Disability Rights Texas
REFRESH-INTERVAL;VALUE=DURATION:PT1H
X-Robots-Tag:noindex
X-PUBLISHED-TTL:PT1H
BEGIN:VTIMEZONE
TZID:America/Chicago
BEGIN:DAYLIGHT
TZOFFSETFROM:-0600
TZOFFSETTO:-0500
TZNAME:CDT
DTSTART:20230312T080000
END:DAYLIGHT
BEGIN:STANDARD
TZOFFSETFROM:-0500
TZOFFSETTO:-0600
TZNAME:CST
DTSTART:20231105T070000
END:STANDARD
BEGIN:DAYLIGHT
TZOFFSETFROM:-0600
TZOFFSETTO:-0500
TZNAME:CDT
DTSTART:20240310T080000
END:DAYLIGHT
BEGIN:STANDARD
TZOFFSETFROM:-0500
TZOFFSETTO:-0600
TZNAME:CST
DTSTART:20241103T070000
END:STANDARD
BEGIN:DAYLIGHT
TZOFFSETFROM:-0600
TZOFFSETTO:-0500
TZNAME:CDT
DTSTART:20250309T080000
END:DAYLIGHT
BEGIN:STANDARD
TZOFFSETFROM:-0500
TZOFFSETTO:-0600
TZNAME:CST
DTSTART:20251102T070000
END:STANDARD
END:VTIMEZONE
BEGIN:VEVENT
DTSTART;TZID=America/Chicago:20240504T090000
DTEND;TZID=America/Chicago:20240504T150000
DTSTAMP:20260419T125024
CREATED:20240313T155640Z
LAST-MODIFIED:20240313T155640Z
UID:13925-1714813200-1714834800@disabilityrightstx.org
SUMMARY:Disaster Readiness and Resilience Clinic: Plan+Prepare (Houston)
DESCRIPTION:People with disabilities in the Houston area are invited to participate in a free disaster preparedness and resilience clinic on Saturday\, May 4. Participants will be more disaster ready and leave the clinic with their own personal preparedness plan and a free weather radio. \nWhen you arrive\, you’ll receive your own personal preparedness workbook that you’ll complete during the clinic. Navigators will be available to help you with your workbook and guide you through the clinic. Representatives from local organizations will also be there to answer your disaster-related questions and talk about how they can support you before\, during\, and after a disaster. \nDetails\nThis free event will be from 9 a.m. to 3 p.m. on Saturday\, May 4\, at the Metropolitan/West Gray Multi-Service Center\, 1475 West Gray Street\, Houston\, TX 77019. \nYou should plan to be there for 1 to 1.5 hours. Registration is encouraged\, but walk-ins are also welcome. \nQuestions?\nIf you have questions about the clinic\, contact Jackie Miller at jackie.miller@houstontx.gov or 832.393.0922.
URL:https://disabilityrightstx.org/en/event/disaster-readiness-and-resilience-clinic-plan-prepare-houston/
LOCATION:TX
END:VEVENT
END:VCALENDAR