BEGIN:VCALENDAR
VERSION:2.0
PRODID:-//Disability Rights Texas - ECPv6.15.20//NONSGML v1.0//EN
CALSCALE:GREGORIAN
METHOD:PUBLISH
X-WR-CALNAME:Disability Rights Texas
X-ORIGINAL-URL:https://disabilityrightstx.org
X-WR-CALDESC:Events for Disability Rights Texas
REFRESH-INTERVAL;VALUE=DURATION:PT1H
X-Robots-Tag:noindex
X-PUBLISHED-TTL:PT1H
BEGIN:VTIMEZONE
TZID:America/Chicago
BEGIN:DAYLIGHT
TZOFFSETFROM:-0600
TZOFFSETTO:-0500
TZNAME:CDT
DTSTART:20230312T080000
END:DAYLIGHT
BEGIN:STANDARD
TZOFFSETFROM:-0500
TZOFFSETTO:-0600
TZNAME:CST
DTSTART:20231105T070000
END:STANDARD
BEGIN:DAYLIGHT
TZOFFSETFROM:-0600
TZOFFSETTO:-0500
TZNAME:CDT
DTSTART:20240310T080000
END:DAYLIGHT
BEGIN:STANDARD
TZOFFSETFROM:-0500
TZOFFSETTO:-0600
TZNAME:CST
DTSTART:20241103T070000
END:STANDARD
BEGIN:DAYLIGHT
TZOFFSETFROM:-0600
TZOFFSETTO:-0500
TZNAME:CDT
DTSTART:20250309T080000
END:DAYLIGHT
BEGIN:STANDARD
TZOFFSETFROM:-0500
TZOFFSETTO:-0600
TZNAME:CST
DTSTART:20251102T070000
END:STANDARD
END:VTIMEZONE
BEGIN:VEVENT
DTSTART;VALUE=DATE:20241206
DTEND;VALUE=DATE:20241209
DTSTAMP:20260420T013146
CREATED:20241115T084830Z
LAST-MODIFIED:20241115T084830Z
UID:15238-1733443200-1733702399@disabilityrightstx.org
SUMMARY:We’re Exhibiting at the Abilities Expo (Dallas)
DESCRIPTION:DRTx will host an exhibit table at the Abilities Expo. Stop by and learn more about DRTx! To learn more and register\, visit the Abilities Expo website.
URL:https://disabilityrightstx.org/en/event/were-exhibiting-at-the-abilities-expo-dallas-2/
LOCATION:Dallas Market Hall\, 2200 N Stemmons Fwy\, Dallas\, TX\, 75207\, United States
END:VEVENT
END:VCALENDAR