BEGIN:VCALENDAR
VERSION:2.0
PRODID:-//Disability Rights Texas - ECPv6.15.20//NONSGML v1.0//EN
CALSCALE:GREGORIAN
METHOD:PUBLISH
X-WR-CALNAME:Disability Rights Texas
X-ORIGINAL-URL:https://disabilityrightstx.org
X-WR-CALDESC:Events for Disability Rights Texas
REFRESH-INTERVAL;VALUE=DURATION:PT1H
X-Robots-Tag:noindex
X-PUBLISHED-TTL:PT1H
BEGIN:VTIMEZONE
TZID:America/Chicago
BEGIN:DAYLIGHT
TZOFFSETFROM:-0600
TZOFFSETTO:-0500
TZNAME:CDT
DTSTART:20240310T080000
END:DAYLIGHT
BEGIN:STANDARD
TZOFFSETFROM:-0500
TZOFFSETTO:-0600
TZNAME:CST
DTSTART:20241103T070000
END:STANDARD
BEGIN:DAYLIGHT
TZOFFSETFROM:-0600
TZOFFSETTO:-0500
TZNAME:CDT
DTSTART:20250309T080000
END:DAYLIGHT
BEGIN:STANDARD
TZOFFSETFROM:-0500
TZOFFSETTO:-0600
TZNAME:CST
DTSTART:20251102T070000
END:STANDARD
BEGIN:DAYLIGHT
TZOFFSETFROM:-0600
TZOFFSETTO:-0500
TZNAME:CDT
DTSTART:20260308T080000
END:DAYLIGHT
BEGIN:STANDARD
TZOFFSETFROM:-0500
TZOFFSETTO:-0600
TZNAME:CST
DTSTART:20261101T070000
END:STANDARD
END:VTIMEZONE
BEGIN:VEVENT
DTSTART;TZID=America/Chicago:20250411T103000
DTEND;TZID=America/Chicago:20250411T170000
DTSTAMP:20260425T162145
CREATED:20250314T090449Z
LAST-MODIFIED:20250314T090449Z
UID:15918-1744367400-1744390800@disabilityrightstx.org
SUMMARY:We’re Exhibiting at the Houston Empower Summit and Challenge 25
DESCRIPTION:DRTx will host an exhibit table at the Empower Summit and Challenge 25 in Houston. Stop by and learn more about DRTx!
URL:https://disabilityrightstx.org/en/event/were-exhibiting-at-the-houston-empower-summit-and-challenge-25/
LOCATION:JW Marriott\, Houston\, TX\, United States
END:VEVENT
BEGIN:VEVENT
DTSTART;TZID=America/Chicago:20250411T103000
DTEND;TZID=America/Chicago:20250411T170000
DTSTAMP:20260425T162145
CREATED:20250314T091014Z
LAST-MODIFIED:20250314T091014Z
UID:15921-1744367400-1744390800@disabilityrightstx.org
SUMMARY:We’re Exhibiting at the Dallas Empower Summit and Challenge 25
DESCRIPTION:DRTx will host an exhibit table at the Empower Summit and Challenge 25 in Dallas. Stop by and learn more about DRTx!
URL:https://disabilityrightstx.org/en/event/were-exhibiting-at-the-dallas-empower-summit-and-challenge-25/
LOCATION:Ruthe Jackson Center\, 3113 S Carrier Pkwy\, Grand Prairie\, TX\, 75052\, United States
END:VEVENT
END:VCALENDAR