BEGIN:VCALENDAR
VERSION:2.0
PRODID:-//Disability Rights Texas - ECPv6.15.20//NONSGML v1.0//EN
CALSCALE:GREGORIAN
METHOD:PUBLISH
X-WR-CALNAME:Disability Rights Texas
X-ORIGINAL-URL:https://disabilityrightstx.org
X-WR-CALDESC:Events for Disability Rights Texas
REFRESH-INTERVAL;VALUE=DURATION:PT1H
X-Robots-Tag:noindex
X-PUBLISHED-TTL:PT1H
BEGIN:VTIMEZONE
TZID:America/Chicago
BEGIN:DAYLIGHT
TZOFFSETFROM:-0600
TZOFFSETTO:-0500
TZNAME:CDT
DTSTART:20240310T080000
END:DAYLIGHT
BEGIN:STANDARD
TZOFFSETFROM:-0500
TZOFFSETTO:-0600
TZNAME:CST
DTSTART:20241103T070000
END:STANDARD
BEGIN:DAYLIGHT
TZOFFSETFROM:-0600
TZOFFSETTO:-0500
TZNAME:CDT
DTSTART:20250309T080000
END:DAYLIGHT
BEGIN:STANDARD
TZOFFSETFROM:-0500
TZOFFSETTO:-0600
TZNAME:CST
DTSTART:20251102T070000
END:STANDARD
BEGIN:DAYLIGHT
TZOFFSETFROM:-0600
TZOFFSETTO:-0500
TZNAME:CDT
DTSTART:20260308T080000
END:DAYLIGHT
BEGIN:STANDARD
TZOFFSETFROM:-0500
TZOFFSETTO:-0600
TZNAME:CST
DTSTART:20261101T070000
END:STANDARD
END:VTIMEZONE
BEGIN:VEVENT
DTSTART;TZID=America/Chicago:20250611T120000
DTEND;TZID=America/Chicago:20250611T130000
DTSTAMP:20260425T130508
CREATED:20250604T142702Z
LAST-MODIFIED:20250604T142702Z
UID:16567-1749643200-1749646800@disabilityrightstx.org
SUMMARY:Know Your Rights: Free Webinar on Housing Discrimination
DESCRIPTION:Do you think you are facing housing discrimination because of disability\, race\, color\, national origin\, religion\, sex\, or family status? \nLearn about your rights and what you can do at our free Zoom webinar. \nIf you need an accommodation such as ASL or captioning\, please email vcortez@DRTx.org at least 72 hours prior to each webinar. \n 
URL:https://disabilityrightstx.org/en/event/know-your-rights-free-webinar-on-housing-discrimination/
LOCATION:Zoom
END:VEVENT
END:VCALENDAR