BEGIN:VCALENDAR
VERSION:2.0
PRODID:-//Disability Rights Texas - ECPv6.15.20//NONSGML v1.0//EN
CALSCALE:GREGORIAN
METHOD:PUBLISH
X-ORIGINAL-URL:https://disabilityrightstx.org
X-WR-CALDESC:Events for Disability Rights Texas
REFRESH-INTERVAL;VALUE=DURATION:PT1H
X-Robots-Tag:noindex
X-PUBLISHED-TTL:PT1H
BEGIN:VTIMEZONE
TZID:America/Chicago
BEGIN:DAYLIGHT
TZOFFSETFROM:-0600
TZOFFSETTO:-0500
TZNAME:CDT
DTSTART:20240310T080000
END:DAYLIGHT
BEGIN:STANDARD
TZOFFSETFROM:-0500
TZOFFSETTO:-0600
TZNAME:CST
DTSTART:20241103T070000
END:STANDARD
BEGIN:DAYLIGHT
TZOFFSETFROM:-0600
TZOFFSETTO:-0500
TZNAME:CDT
DTSTART:20250309T080000
END:DAYLIGHT
BEGIN:STANDARD
TZOFFSETFROM:-0500
TZOFFSETTO:-0600
TZNAME:CST
DTSTART:20251102T070000
END:STANDARD
BEGIN:DAYLIGHT
TZOFFSETFROM:-0600
TZOFFSETTO:-0500
TZNAME:CDT
DTSTART:20260308T080000
END:DAYLIGHT
BEGIN:STANDARD
TZOFFSETFROM:-0500
TZOFFSETTO:-0600
TZNAME:CST
DTSTART:20261101T070000
END:STANDARD
END:VTIMEZONE
BEGIN:VEVENT
DTSTART;TZID=America/Chicago:20250809T083000
DTEND;TZID=America/Chicago:20250809T150000
DTSTAMP:20260424T162249
CREATED:20250113T104141Z
LAST-MODIFIED:20250113T104141Z
UID:15562-1754728200-1754751600@disabilityrightstx.org
SUMMARY:DRTx Board Meeting – August 2025
DESCRIPTION:This meeting will be on Zoom. \nThe public is invited to provide comments during a specific time frame during the meeting which is still to be determined. If you would like to provide public comment in person or via Zoom at this meeting\, please complete our Board Meeting Public Comment Sign Up Form (en español) at least 3 days prior to the meeting. You can also use the form to provide public comment in writing. \n  \n 
URL:https://disabilityrightstx.org/en/event/drtx-board-meeting-august-2025/
LOCATION:Zoom
END:VEVENT
END:VCALENDAR