BEGIN:VCALENDAR
VERSION:2.0
PRODID:-//Disability Rights Texas - ECPv6.15.20//NONSGML v1.0//EN
CALSCALE:GREGORIAN
METHOD:PUBLISH
X-WR-CALNAME:Disability Rights Texas
X-ORIGINAL-URL:https://disabilityrightstx.org
X-WR-CALDESC:Events for Disability Rights Texas
REFRESH-INTERVAL;VALUE=DURATION:PT1H
X-Robots-Tag:noindex
X-PUBLISHED-TTL:PT1H
BEGIN:VTIMEZONE
TZID:America/Chicago
BEGIN:DAYLIGHT
TZOFFSETFROM:-0600
TZOFFSETTO:-0500
TZNAME:CDT
DTSTART:20240310T080000
END:DAYLIGHT
BEGIN:STANDARD
TZOFFSETFROM:-0500
TZOFFSETTO:-0600
TZNAME:CST
DTSTART:20241103T070000
END:STANDARD
BEGIN:DAYLIGHT
TZOFFSETFROM:-0600
TZOFFSETTO:-0500
TZNAME:CDT
DTSTART:20250309T080000
END:DAYLIGHT
BEGIN:STANDARD
TZOFFSETFROM:-0500
TZOFFSETTO:-0600
TZNAME:CST
DTSTART:20251102T070000
END:STANDARD
BEGIN:DAYLIGHT
TZOFFSETFROM:-0600
TZOFFSETTO:-0500
TZNAME:CDT
DTSTART:20260308T080000
END:DAYLIGHT
BEGIN:STANDARD
TZOFFSETFROM:-0500
TZOFFSETTO:-0600
TZNAME:CST
DTSTART:20261101T070000
END:STANDARD
END:VTIMEZONE
BEGIN:VEVENT
DTSTART;TZID=America/Chicago:20250912T090000
DTEND;TZID=America/Chicago:20250912T150000
DTSTAMP:20260424T032040
CREATED:20250523T081348Z
LAST-MODIFIED:20250523T081348Z
UID:16421-1757667600-1757689200@disabilityrightstx.org
SUMMARY:We’re Exhibiting at Empowered Families: Navigating the Journey Together (Huntsville)
DESCRIPTION:DRTx will host an exhibit table at Empowered Families: Navigating the Journey Together. Stop by and learn more about DRTx!
URL:https://disabilityrightstx.org/en/event/were-exhibiting-at-empowered-families-navigating-the-journey-together-huntsville/
LOCATION:Region 6 Education Service Center\, 3332 Montgomery Road\, Huntsville\, TX\, 77340\, United States
END:VEVENT
END:VCALENDAR