BEGIN:VCALENDAR
VERSION:2.0
PRODID:-//Disability Rights Texas - ECPv6.15.20//NONSGML v1.0//EN
CALSCALE:GREGORIAN
METHOD:PUBLISH
X-WR-CALNAME:Disability Rights Texas
X-ORIGINAL-URL:https://disabilityrightstx.org
X-WR-CALDESC:Events for Disability Rights Texas
REFRESH-INTERVAL;VALUE=DURATION:PT1H
X-Robots-Tag:noindex
X-PUBLISHED-TTL:PT1H
BEGIN:VTIMEZONE
TZID:America/Chicago
BEGIN:DAYLIGHT
TZOFFSETFROM:-0600
TZOFFSETTO:-0500
TZNAME:CDT
DTSTART:20240310T080000
END:DAYLIGHT
BEGIN:STANDARD
TZOFFSETFROM:-0500
TZOFFSETTO:-0600
TZNAME:CST
DTSTART:20241103T070000
END:STANDARD
BEGIN:DAYLIGHT
TZOFFSETFROM:-0600
TZOFFSETTO:-0500
TZNAME:CDT
DTSTART:20250309T080000
END:DAYLIGHT
BEGIN:STANDARD
TZOFFSETFROM:-0500
TZOFFSETTO:-0600
TZNAME:CST
DTSTART:20251102T070000
END:STANDARD
BEGIN:DAYLIGHT
TZOFFSETFROM:-0600
TZOFFSETTO:-0500
TZNAME:CDT
DTSTART:20260308T080000
END:DAYLIGHT
BEGIN:STANDARD
TZOFFSETFROM:-0500
TZOFFSETTO:-0600
TZNAME:CST
DTSTART:20261101T070000
END:STANDARD
END:VTIMEZONE
BEGIN:VEVENT
DTSTART;TZID=America/Chicago:20250926T120000
DTEND;TZID=America/Chicago:20250926T130000
DTSTAMP:20260425T010546
CREATED:20250905T101354Z
LAST-MODIFIED:20250905T101354Z
UID:17463-1758888000-1758891600@disabilityrightstx.org
SUMMARY:Webinar: Advocating for IEP Services
DESCRIPTION:The Partners Resource Network will host the Thrive Together Conference at 12 p.m. Central Time on September 26\, 2025. During the online event\, DRTx’s Rosa Torres will present on the special education rights of parents and students when receiving services to help the student prepare for life after high school. Register for the webinar.
URL:https://disabilityrightstx.org/en/event/webinar-advocating-for-iep-transition-services/
LOCATION:Zoom
END:VEVENT
END:VCALENDAR