BEGIN:VCALENDAR
VERSION:2.0
PRODID:-//Disability Rights Texas - ECPv6.15.20//NONSGML v1.0//EN
CALSCALE:GREGORIAN
METHOD:PUBLISH
X-WR-CALNAME:Disability Rights Texas
X-ORIGINAL-URL:https://disabilityrightstx.org
X-WR-CALDESC:Events for Disability Rights Texas
REFRESH-INTERVAL;VALUE=DURATION:PT1H
X-Robots-Tag:noindex
X-PUBLISHED-TTL:PT1H
BEGIN:VTIMEZONE
TZID:America/Chicago
BEGIN:DAYLIGHT
TZOFFSETFROM:-0600
TZOFFSETTO:-0500
TZNAME:CDT
DTSTART:20240310T080000
END:DAYLIGHT
BEGIN:STANDARD
TZOFFSETFROM:-0500
TZOFFSETTO:-0600
TZNAME:CST
DTSTART:20241103T070000
END:STANDARD
BEGIN:DAYLIGHT
TZOFFSETFROM:-0600
TZOFFSETTO:-0500
TZNAME:CDT
DTSTART:20250309T080000
END:DAYLIGHT
BEGIN:STANDARD
TZOFFSETFROM:-0500
TZOFFSETTO:-0600
TZNAME:CST
DTSTART:20251102T070000
END:STANDARD
BEGIN:DAYLIGHT
TZOFFSETFROM:-0600
TZOFFSETTO:-0500
TZNAME:CDT
DTSTART:20260308T080000
END:DAYLIGHT
BEGIN:STANDARD
TZOFFSETFROM:-0500
TZOFFSETTO:-0600
TZNAME:CST
DTSTART:20261101T070000
END:STANDARD
END:VTIMEZONE
BEGIN:VEVENT
DTSTART;TZID=America/Chicago:20251108T090000
DTEND;TZID=America/Chicago:20251108T143000
DTSTAMP:20260422T030752
CREATED:20251024T103120Z
LAST-MODIFIED:20251024T103120Z
UID:17786-1762592400-1762612200@disabilityrightstx.org
SUMMARY:Presenting at the A Look Ahead Conference (Arlington)
DESCRIPTION:DRTx policy specialist Jeff Miller will be providing three presentations at the A Look Ahead Conference. Jeff will be providing the following presentations: \n\nGuardianship & Alternatives: Respecting Rights & Supporting Choices\nRestoration of Rights for Adults Under Guardianship\nVoting\, Elections & Getting Involved: A Conversation about Voting & Disability Rights
URL:https://disabilityrightstx.org/en/event/presenting-at-the-a-look-ahead-conference-arlington/
LOCATION:First United Methodist Church of Arlington\, 313 North Center Street\, Arlington\, TX\, 76011\, United States
END:VEVENT
BEGIN:VEVENT
DTSTART;TZID=America/Chicago:20251108T100000
DTEND;TZID=America/Chicago:20251108T140000
DTSTAMP:20260422T030752
CREATED:20251024T092210Z
LAST-MODIFIED:20251024T092210Z
UID:17781-1762596000-1762610400@disabilityrightstx.org
SUMMARY:We’re Exhibiting at Dino-bility Day at Dinosaur Valley State Park (Glen Rose)
DESCRIPTION:DRTx will host an exhibit table at Dino-bility Day at Dinosaur Valley State Park. Stop by and learn more about DRTx!
URL:https://disabilityrightstx.org/en/event/were-exhibiting-at-dino-bility-day-at-dinosaur-valley-state-park-glen-rose/
LOCATION:Dinosaur Valley State Park\, Dinosaur Valley State Park\, Glen Rose\, TX\, 76043\, United States
END:VEVENT
END:VCALENDAR