BEGIN:VCALENDAR
VERSION:2.0
PRODID:-//Disability Rights Texas - ECPv6.15.20//NONSGML v1.0//EN
CALSCALE:GREGORIAN
METHOD:PUBLISH
X-ORIGINAL-URL:https://disabilityrightstx.org
X-WR-CALDESC:Eventos para Disability Rights Texas
REFRESH-INTERVAL;VALUE=DURATION:PT1H
X-Robots-Tag:noindex
X-PUBLISHED-TTL:PT1H
BEGIN:VTIMEZONE
TZID:America/Chicago
BEGIN:DAYLIGHT
TZOFFSETFROM:-0600
TZOFFSETTO:-0500
TZNAME:CDT
DTSTART:20210314T080000
END:DAYLIGHT
BEGIN:STANDARD
TZOFFSETFROM:-0500
TZOFFSETTO:-0600
TZNAME:CST
DTSTART:20211107T070000
END:STANDARD
BEGIN:DAYLIGHT
TZOFFSETFROM:-0600
TZOFFSETTO:-0500
TZNAME:CDT
DTSTART:20220313T080000
END:DAYLIGHT
BEGIN:STANDARD
TZOFFSETFROM:-0500
TZOFFSETTO:-0600
TZNAME:CST
DTSTART:20221106T070000
END:STANDARD
BEGIN:DAYLIGHT
TZOFFSETFROM:-0600
TZOFFSETTO:-0500
TZNAME:CDT
DTSTART:20230312T080000
END:DAYLIGHT
BEGIN:STANDARD
TZOFFSETFROM:-0500
TZOFFSETTO:-0600
TZNAME:CST
DTSTART:20231105T070000
END:STANDARD
END:VTIMEZONE
BEGIN:VEVENT
DTSTART;VALUE=DATE:20220611
DTEND;VALUE=DATE:20220612
DTSTAMP:20260421T083716
CREATED:20220516T134954Z
LAST-MODIFIED:20220516T134954Z
UID:9664-1654905600-1654991999@disabilityrightstx.org
SUMMARY:Clínicas de Vacunación Aptas para el Autismo (San Antonio)
DESCRIPTION:Vamos a ofrecer clínicas de vacunación aptas para el Autismo el 11 de Junio en el Autism Treatment Center localizado en: 15911 Nacogdoches Rd. Las vacunas serán proveídas por el Distrito de Salud del Area Metropolitana de San Antonio.
URL:https://disabilityrightstx.org/es/event/clinicas-de-vacunacion-aptas-para-el-autismo-san-antonio/
LOCATION:Autism Treatment Center (San Antonio)\, 15911 Nacogdoches Rd.\, Bldg 2\, San Antonio\, TX\, 78247\, United States
END:VEVENT
END:VCALENDAR