BEGIN:VCALENDAR
VERSION:2.0
PRODID:-//Disability Rights Texas - ECPv6.15.20//NONSGML v1.0//EN
CALSCALE:GREGORIAN
METHOD:PUBLISH
X-ORIGINAL-URL:https://disabilityrightstx.org
X-WR-CALDESC:Eventos para Disability Rights Texas
REFRESH-INTERVAL;VALUE=DURATION:PT1H
X-Robots-Tag:noindex
X-PUBLISHED-TTL:PT1H
BEGIN:VTIMEZONE
TZID:America/Chicago
BEGIN:DAYLIGHT
TZOFFSETFROM:-0600
TZOFFSETTO:-0500
TZNAME:CDT
DTSTART:20220313T080000
END:DAYLIGHT
BEGIN:STANDARD
TZOFFSETFROM:-0500
TZOFFSETTO:-0600
TZNAME:CST
DTSTART:20221106T070000
END:STANDARD
BEGIN:DAYLIGHT
TZOFFSETFROM:-0600
TZOFFSETTO:-0500
TZNAME:CDT
DTSTART:20230312T080000
END:DAYLIGHT
BEGIN:STANDARD
TZOFFSETFROM:-0500
TZOFFSETTO:-0600
TZNAME:CST
DTSTART:20231105T070000
END:STANDARD
BEGIN:DAYLIGHT
TZOFFSETFROM:-0600
TZOFFSETTO:-0500
TZNAME:CDT
DTSTART:20240310T080000
END:DAYLIGHT
BEGIN:STANDARD
TZOFFSETFROM:-0500
TZOFFSETTO:-0600
TZNAME:CST
DTSTART:20241103T070000
END:STANDARD
END:VTIMEZONE
BEGIN:VEVENT
DTSTART;TZID=America/Chicago:20231209T100000
DTEND;TZID=America/Chicago:20231209T120000
DTSTAMP:20260421T025415
CREATED:20231031T105323Z
LAST-MODIFIED:20231031T105323Z
UID:13236-1702116000-1702123200@disabilityrightstx.org
SUMMARY:Estamos exhibiendo en la 7th Annual San Marcos Library Resource Fair (San Marcos)
DESCRIPTION:DRTx organizará una mesa de exhibición en la 7th Annual San Marcos Library Resource Fair. ¡Visítanos y aprende más sobre DRTx! \nEn el evento\, personal que habla español estará en la mesa de exhibición de DRTx y tendremos materiales impresados y disponibles en español. Sin embargo\, no sabemos qué proporcionarán otros proveedores en el evento.
URL:https://disabilityrightstx.org/es/event/estamos-exhibiendo-en-la-7th-annual-san-marcos-library-resource-fair-san-marcos/
LOCATION:San Marcos Public Library\, 625 East Hopkins St.\, San Marcos\, Texas\, 78666\, Estados Unidos
END:VEVENT
END:VCALENDAR